BEGIN:VCALENDAR
VERSION:2.0
PRODID:-//Municipalidad de Marcos Juárez - ECPv6.15.17.1//NONSGML v1.0//EN
CALSCALE:GREGORIAN
METHOD:PUBLISH
X-WR-CALNAME:Municipalidad de Marcos Juárez
X-ORIGINAL-URL:https://www.mmj.gob.ar
X-WR-CALDESC:Eventos para Municipalidad de Marcos Juárez
REFRESH-INTERVAL;VALUE=DURATION:PT1H
X-Robots-Tag:noindex
X-PUBLISHED-TTL:PT1H
BEGIN:VTIMEZONE
TZID:America/Argentina/Buenos_Aires
BEGIN:STANDARD
TZOFFSETFROM:-0300
TZOFFSETTO:-0300
TZNAME:-03
DTSTART:20240101T000000
END:STANDARD
END:VTIMEZONE
BEGIN:VEVENT
DTSTART;TZID=America/Argentina/Buenos_Aires:20250402T100000
DTEND;TZID=America/Argentina/Buenos_Aires:20250402T230000
DTSTAMP:20260419T105620
CREATED:20250328T130205Z
LAST-MODIFIED:20250328T130205Z
UID:3838-1743588000-1743634800@www.mmj.gob.ar
SUMMARY:Acto en conmemoración por el Día del Veterano y de los caídos en la Guerra de Malvinas
DESCRIPTION:
URL:https://www.mmj.gob.ar/agenda/acto-dia-veterano-caidos-guerra-malvinas/
LOCATION:Bv. Hipólito Yrigoyen y Av. Leandro N. Alem\, Boulevard H. Yrigoyen 959\, Marcos Juárez\, Córdoba\, X2580\, Argentina
CATEGORIES:Actos
ATTACH;FMTTYPE=image/png:https://www.mmj.gob.ar/wp-content/uploads/2025/03/Invitacion-acto-Dia-del-Veterano-y-de-los-caidos-en-la-Guerra-de-Malvinas-01.png
END:VEVENT
BEGIN:VEVENT
DTSTART;TZID=America/Argentina/Buenos_Aires:20250405T190000
DTEND;TZID=America/Argentina/Buenos_Aires:20250405T200000
DTSTAMP:20260419T105620
CREATED:20250328T131202Z
LAST-MODIFIED:20250328T131202Z
UID:3849-1743879600-1743883200@www.mmj.gob.ar
SUMMARY:Muestra: Aromas que Abrigan
DESCRIPTION:
URL:https://www.mmj.gob.ar/agenda/muestra-aromas-que-abrigan-2/
LOCATION:Casa de la Cultura\, San Luis 16\, Marcos Juárez\, Córdoba\, 2580\, Argentina
CATEGORIES:Muestras
ATTACH;FMTTYPE=image/png:https://www.mmj.gob.ar/wp-content/uploads/2025/03/5-6.04_Muestra_Aromas-que-abrigan_Feed.png
END:VEVENT
BEGIN:VEVENT
DTSTART;TZID=America/Argentina/Buenos_Aires:20250406T110000
DTEND;TZID=America/Argentina/Buenos_Aires:20250406T120000
DTSTAMP:20260419T105620
CREATED:20250328T131637Z
LAST-MODIFIED:20250328T131637Z
UID:3851-1743937200-1743940800@www.mmj.gob.ar
SUMMARY:Plantando Vida
DESCRIPTION:
URL:https://www.mmj.gob.ar/agenda/plantando-vida/
LOCATION:Parque Loinas\, calle del niño y Av. Circunvalación\, Marcos Juárez\, Córdoba\, 2580\, Argentina
ATTACH;FMTTYPE=image/jpeg:https://www.mmj.gob.ar/wp-content/uploads/2025/03/WhatsApp-Image-2025-03-26-at-09.16.53.jpeg
END:VEVENT
BEGIN:VEVENT
DTSTART;TZID=America/Argentina/Buenos_Aires:20250411T235900
DTEND;TZID=America/Argentina/Buenos_Aires:20250411T235900
DTSTAMP:20260419T105620
CREATED:20250411T201044Z
LAST-MODIFIED:20250411T201106Z
UID:4025-1744415940-1744415940@www.mmj.gob.ar
SUMMARY:Q'LOKURA
DESCRIPTION:
URL:https://www.mmj.gob.ar/agenda/qlokura/
CATEGORIES:Música
ATTACH;FMTTYPE=image/jpeg:https://www.mmj.gob.ar/wp-content/uploads/2025/04/FB_IMG_1744063182736.jpg
END:VEVENT
BEGIN:VEVENT
DTSTART;TZID=America/Argentina/Buenos_Aires:20250412T140000
DTEND;TZID=America/Argentina/Buenos_Aires:20250412T170000
DTSTAMP:20260419T105620
CREATED:20250409T143211Z
LAST-MODIFIED:20250409T143411Z
UID:3957-1744466400-1744477200@www.mmj.gob.ar
SUMMARY:Feria de Emprendedores
DESCRIPTION:
URL:https://www.mmj.gob.ar/agenda/feria-de-emprendedores-9/
LOCATION:Plaza Gral. Paz\, Lardizabal e Italia\, Marcos Juárez\, Córdoba\, 2580\, Argentina
CATEGORIES:Feria de Artesanos
ATTACH;FMTTYPE=image/png:https://www.mmj.gob.ar/wp-content/uploads/2025/04/12-13.04_Feria-de-emprendedores_Feed.png
END:VEVENT
BEGIN:VEVENT
DTSTART;TZID=America/Argentina/Buenos_Aires:20250412T170000
DTEND;TZID=America/Argentina/Buenos_Aires:20250412T180000
DTSTAMP:20260419T105620
CREATED:20250408T130214Z
LAST-MODIFIED:20250409T143625Z
UID:3930-1744477200-1744480800@www.mmj.gob.ar
SUMMARY:Merienda Literaria
DESCRIPTION:Con la presencia de la escritora Fernanda Perez \nEntradas limitadas y a la venta
URL:https://www.mmj.gob.ar/agenda/merienda-literaria/
LOCATION:La Vieja Librería\, Beiro 330\, Marcos Juárez\, Córdoba\, 2580
CATEGORIES:General
ATTACH;FMTTYPE=image/jpeg:https://www.mmj.gob.ar/wp-content/uploads/2025/04/WhatsApp-Image-2025-04-08-at-09.45.06.jpeg
END:VEVENT
BEGIN:VEVENT
DTSTART;TZID=America/Argentina/Buenos_Aires:20250412T190000
DTEND;TZID=America/Argentina/Buenos_Aires:20250412T210000
DTSTAMP:20260419T105620
CREATED:20250407T144549Z
LAST-MODIFIED:20250407T144549Z
UID:3922-1744484400-1744491600@www.mmj.gob.ar
SUMMARY:Muestra Isquitipe Grabados
DESCRIPTION:
URL:https://www.mmj.gob.ar/agenda/muestra-isquitipe-grabados/
LOCATION:Casa de la Cultura\, San Luis 16\, Marcos Juárez\, Córdoba\, 2580\, Argentina
CATEGORIES:Muestras
ATTACH;FMTTYPE=image/jpeg:https://www.mmj.gob.ar/wp-content/uploads/2025/04/WhatsApp-Image-2025-04-07-at-11.19.53.jpeg
END:VEVENT
BEGIN:VEVENT
DTSTART;TZID=America/Argentina/Buenos_Aires:20250412T213000
DTEND;TZID=America/Argentina/Buenos_Aires:20250412T213000
DTSTAMP:20260419T105620
CREATED:20250411T184140Z
LAST-MODIFIED:20250411T184153Z
UID:4020-1744493400-1744493400@www.mmj.gob.ar
SUMMARY:MILONGA PÍCARA
DESCRIPTION:
URL:https://www.mmj.gob.ar/agenda/milonga-picara/
LOCATION:Centro de Arte Nativo YARAVI\, San Martin 1265\, Marcos Juarez\, Cordoba\, 2580\, Argentina
CATEGORIES:Música
ATTACH;FMTTYPE=image/jpeg:https://www.mmj.gob.ar/wp-content/uploads/2025/04/IMG-20250407-WA0085.jpg
END:VEVENT
BEGIN:VEVENT
DTSTART;TZID=America/Argentina/Buenos_Aires:20250413T100000
DTEND;TZID=America/Argentina/Buenos_Aires:20250413T120000
DTSTAMP:20260419T105620
CREATED:20250412T122347Z
LAST-MODIFIED:20250412T122359Z
UID:4038-1744538400-1744545600@www.mmj.gob.ar
SUMMARY:UNA MIRADA A NUESTRA INFANCIA
DESCRIPTION:
URL:https://www.mmj.gob.ar/agenda/una-mirada-a-nuestra-infancia/
LOCATION:Museo CIudad de Marcos Juárez\, San Martín 565\, Marcos Juárez
CATEGORIES:Museo
ATTACH;FMTTYPE=image/jpeg:https://www.mmj.gob.ar/wp-content/uploads/2025/04/FB_IMG_1743774270244.jpg
END:VEVENT
BEGIN:VEVENT
DTSTART;TZID=America/Argentina/Buenos_Aires:20250413T140000
DTEND;TZID=America/Argentina/Buenos_Aires:20250413T170000
DTSTAMP:20260419T105620
CREATED:20250409T143344Z
LAST-MODIFIED:20250409T143344Z
UID:3960-1744552800-1744563600@www.mmj.gob.ar
SUMMARY:Feria de Emprendedores
DESCRIPTION:
URL:https://www.mmj.gob.ar/agenda/feria-de-emprendedores-10/
LOCATION:Plaza Gral. Paz\, Lardizabal e Italia\, Marcos Juárez\, Córdoba\, 2580\, Argentina
CATEGORIES:Feria de Artesanos
ATTACH;FMTTYPE=image/png:https://www.mmj.gob.ar/wp-content/uploads/2025/04/12-13.04_Feria-de-emprendedores_Feed.png
END:VEVENT
BEGIN:VEVENT
DTSTART;TZID=America/Argentina/Buenos_Aires:20250413T190000
DTEND;TZID=America/Argentina/Buenos_Aires:20250413T210000
DTSTAMP:20260419T105620
CREATED:20250407T144803Z
LAST-MODIFIED:20250407T144803Z
UID:3924-1744570800-1744578000@www.mmj.gob.ar
SUMMARY:Muestra Isquitipe Grabados
DESCRIPTION:
URL:https://www.mmj.gob.ar/agenda/muestra-isquitipe-grabados-2/
LOCATION:Casa de la Cultura\, San Luis 16\, Marcos Juárez\, Córdoba\, 2580\, Argentina
CATEGORIES:Muestras
ATTACH;FMTTYPE=image/jpeg:https://www.mmj.gob.ar/wp-content/uploads/2025/04/WhatsApp-Image-2025-04-07-at-11.19.53.jpeg
END:VEVENT
BEGIN:VEVENT
DTSTART;TZID=America/Argentina/Buenos_Aires:20250413T193000
DTEND;TZID=America/Argentina/Buenos_Aires:20250413T210000
DTSTAMP:20260419T105620
CREATED:20250409T145119Z
LAST-MODIFIED:20250409T145119Z
UID:3964-1744572600-1744578000@www.mmj.gob.ar
SUMMARY:Vientos Live Band del 40
DESCRIPTION:
URL:https://www.mmj.gob.ar/agenda/vientos-live-band-del-40/
LOCATION:Banda Municipal «José Cesanelli»\, Av. San Martín 1241\, Marcos Juárez\, Córdoba\, 2580\, Argentina
CATEGORIES:Música
ATTACH;FMTTYPE=image/jpeg:https://www.mmj.gob.ar/wp-content/uploads/2025/04/487076102_9543007825721842_7237121473422414399_n.jpg
END:VEVENT
BEGIN:VEVENT
DTSTART;TZID=America/Argentina/Buenos_Aires:20250413T210000
DTEND;TZID=America/Argentina/Buenos_Aires:20250413T210000
DTSTAMP:20260419T105620
CREATED:20250412T120402Z
LAST-MODIFIED:20250412T120431Z
UID:4029-1744578000-1744578000@www.mmj.gob.ar
SUMMARY:MARCELO LEVY Y LA OTRA GENTE
DESCRIPTION:
URL:https://www.mmj.gob.ar/agenda/marcelo-levy-la-otra-gente/
LOCATION:Viejo Bar\, Alem 222\, Marcos Juárez
CATEGORIES:Música
ATTACH;FMTTYPE=image/jpeg:https://www.mmj.gob.ar/wp-content/uploads/2025/04/Screenshot_20250408_021837_Facebook.jpg
END:VEVENT
BEGIN:VEVENT
DTSTART;TZID=America/Argentina/Buenos_Aires:20250416T180000
DTEND;TZID=America/Argentina/Buenos_Aires:20250416T200000
DTSTAMP:20260419T105620
CREATED:20250416T122012Z
LAST-MODIFIED:20250416T122032Z
UID:4104-1744826400-1744833600@www.mmj.gob.ar
SUMMARY:FESTEJAMOS EL DÍA DEL PATINADOR
DESCRIPTION:
URL:https://www.mmj.gob.ar/agenda/festejamos-el-dia-del-patinador/
LOCATION:polideportivo\, Lardizabal y Tucumán\, Marcos Juárez\, Córdoba\, 2580
CATEGORIES:General
ATTACH;FMTTYPE=image/jpeg:https://www.mmj.gob.ar/wp-content/uploads/2025/04/IMG-20250416-WA0023.jpg
END:VEVENT
BEGIN:VEVENT
DTSTART;TZID=America/Argentina/Buenos_Aires:20250417T213000
DTEND;TZID=America/Argentina/Buenos_Aires:20250418T000000
DTSTAMP:20260419T105620
CREATED:20250415T164000Z
LAST-MODIFIED:20250415T164018Z
UID:4093-1744925400-1744934400@www.mmj.gob.ar
SUMMARY:CENA MARIDAJE
DESCRIPTION:Día mundial del malbec.
URL:https://www.mmj.gob.ar/agenda/cena-maridaje/
LOCATION:Bar Barista\, Alem 315\, Marcos Juárez
CATEGORIES:General
ATTACH;FMTTYPE=image/jpeg:https://www.mmj.gob.ar/wp-content/uploads/2025/04/Screenshot_20250412_160814_WhatsAppBusiness.jpg
END:VEVENT
BEGIN:VEVENT
DTSTART;TZID=America/Argentina/Buenos_Aires:20250418T210000
DTEND;TZID=America/Argentina/Buenos_Aires:20250418T210000
DTSTAMP:20260419T105620
CREATED:20250418T172516Z
LAST-MODIFIED:20250422T123119Z
UID:4135-1745010000-1745010000@www.mmj.gob.ar
SUMMARY:SEMANA SANTA - Vía Crucis
DESCRIPTION:
URL:https://www.mmj.gob.ar/agenda/semana-santa-via-crusis/
CATEGORIES:General
ATTACH;FMTTYPE=image/jpeg:https://www.mmj.gob.ar/wp-content/uploads/2025/04/Screenshot_20250418_115801_Instagram.jpg
END:VEVENT
BEGIN:VEVENT
DTSTART;TZID=America/Argentina/Buenos_Aires:20250418T220000
DTEND;TZID=America/Argentina/Buenos_Aires:20250418T220000
DTSTAMP:20260419T105620
CREATED:20250415T164645Z
LAST-MODIFIED:20250415T164701Z
UID:4098-1745013600-1745013600@www.mmj.gob.ar
SUMMARY:PULPO FERRARI Y DARIO MARCON
DESCRIPTION: 
URL:https://www.mmj.gob.ar/agenda/pulpo-ferrari-y-dario-marcon/
LOCATION:Viejo Bar\, Alem 222\, Marcos Juárez
CATEGORIES:Música
ATTACH;FMTTYPE=image/jpeg:https://www.mmj.gob.ar/wp-content/uploads/2025/04/Screenshot_20250415_124204_WhatsAppBusiness.jpg
END:VEVENT
BEGIN:VEVENT
DTSTART;TZID=America/Argentina/Buenos_Aires:20250419T200000
DTEND;TZID=America/Argentina/Buenos_Aires:20250419T200000
DTSTAMP:20260419T105620
CREATED:20250418T174209Z
LAST-MODIFIED:20250422T122820Z
UID:4140-1745092800-1745092800@www.mmj.gob.ar
SUMMARY:SEMANA SANTA - sábado y domingo.
DESCRIPTION: 
URL:https://www.mmj.gob.ar/agenda/semana-santa-sabado-y-domingo/
LOCATION:Parroquia La Asunción\, Alem y San Martín
CATEGORIES:General
ATTACH;FMTTYPE=image/jpeg:https://www.mmj.gob.ar/wp-content/uploads/2025/04/Screenshot_20250418_115810_Instagram.jpg
END:VEVENT
BEGIN:VEVENT
DTSTART;TZID=America/Argentina/Buenos_Aires:20250420T192000
DTEND;TZID=America/Argentina/Buenos_Aires:20250420T192000
DTSTAMP:20260419T105620
CREATED:20250411T181724Z
LAST-MODIFIED:20250411T182003Z
UID:4013-1745176800-1745176800@www.mmj.gob.ar
SUMMARY:UNA MAESTRA SINGULAR
DESCRIPTION:
URL:https://www.mmj.gob.ar/agenda/una-maestra-singular/
LOCATION:Casa de la Cultura\, San Luis 16\, Marcos Juárez\, Córdoba\, 2580\, Argentina
CATEGORIES:General,TEATRO
ATTACH;FMTTYPE=image/jpeg:https://www.mmj.gob.ar/wp-content/uploads/2025/04/Screenshot_20250409_104431_Facebook.jpg
END:VEVENT
BEGIN:VEVENT
DTSTART;TZID=America/Argentina/Buenos_Aires:20250420T200000
DTEND;TZID=America/Argentina/Buenos_Aires:20250421T000000
DTSTAMP:20260419T105620
CREATED:20250415T123741Z
LAST-MODIFIED:20250415T123753Z
UID:4058-1745179200-1745193600@www.mmj.gob.ar
SUMMARY:GRAN PEÑA FOLKLÓRICA
DESCRIPTION:Presencia estelar de Jorge «Mono» Leguízamon. \nY artistas locales y regionales. \nDiego Sartori\, Quebracho\, entre otros.
URL:https://www.mmj.gob.ar/agenda/gran-pena-folklorica/
LOCATION:Centro de Arte Nativo YARAVI\, San Martin 1265\, Marcos Juarez\, Cordoba\, 2580\, Argentina
CATEGORIES:Música
ATTACH;FMTTYPE=image/jpeg:https://www.mmj.gob.ar/wp-content/uploads/2025/04/Screenshot_20250415_083308_WhatsAppBusiness.jpg
END:VEVENT
BEGIN:VEVENT
DTSTART;TZID=America/Argentina/Buenos_Aires:20250420T210000
DTEND;TZID=America/Argentina/Buenos_Aires:20250420T230000
DTSTAMP:20260419T105620
CREATED:20250415T131200Z
LAST-MODIFIED:20250415T131213Z
UID:4072-1745182800-1745190000@www.mmj.gob.ar
SUMMARY:UNA CLASE ESPECIAL
DESCRIPTION:
URL:https://www.mmj.gob.ar/agenda/una-clase-especial/
LOCATION:Sociedad Italiana Marcos Juárez\, Alem y Belgrano\, Marcos Juárez\, Córdoba\, 2580
CATEGORIES:TEATRO
ATTACH;FMTTYPE=image/jpeg:https://www.mmj.gob.ar/wp-content/uploads/2025/04/FB_IMG_1742779472416.jpg
END:VEVENT
BEGIN:VEVENT
DTSTART;TZID=America/Argentina/Buenos_Aires:20250420T210000
DTEND;TZID=America/Argentina/Buenos_Aires:20250420T233000
DTSTAMP:20260419T105620
CREATED:20250417T195742Z
LAST-MODIFIED:20250417T195756Z
UID:4124-1745182800-1745191800@www.mmj.gob.ar
SUMMARY:AFROBLUES Ricardo Tapia y Jamil Jacobo
DESCRIPTION:
URL:https://www.mmj.gob.ar/agenda/afroblues-ricardo-tapia-y-jamil-jacobo/
LOCATION:Café Racer\, Alem y Sáenz Peña\, Marcos Juárez
CATEGORIES:Música
ATTACH;FMTTYPE=image/jpeg:https://www.mmj.gob.ar/wp-content/uploads/2025/04/Screenshot_20250417_165311_Instagram.jpg
END:VEVENT
BEGIN:VEVENT
DTSTART;TZID=America/Argentina/Buenos_Aires:20250421T193000
DTEND;TZID=America/Argentina/Buenos_Aires:20250421T210000
DTSTAMP:20260419T105620
CREATED:20250421T134959Z
LAST-MODIFIED:20250421T134959Z
UID:4155-1745263800-1745269200@www.mmj.gob.ar
SUMMARY:Santa Misa por el eterno descanso del Papa Francisco
DESCRIPTION:
URL:https://www.mmj.gob.ar/agenda/santa-misa-por-el-eterno-descanso-del-papa-francisco/
LOCATION:Parroquia La Asunción\, Alem y San Martín
ATTACH;FMTTYPE=image/jpeg:https://www.mmj.gob.ar/wp-content/uploads/2025/04/492239622_1110258347797911_5993175561140467507_n.jpg
END:VEVENT
BEGIN:VEVENT
DTSTART;TZID=America/Argentina/Buenos_Aires:20250424T210000
DTEND;TZID=America/Argentina/Buenos_Aires:20250424T210000
DTSTAMP:20260419T105620
CREATED:20250424T093303Z
LAST-MODIFIED:20250424T093320Z
UID:4240-1745528400-1745528400@www.mmj.gob.ar
SUMMARY:PEÑA CON SABOR ARGENTINO
DESCRIPTION:Guitarreada abierta. \nEspecialistas en comidas tradicionales. \nSumate.
URL:https://www.mmj.gob.ar/agenda/pena-con-sabor-argentino-2/
LOCATION:La Cautiva\, Juan B. Justo 1009\, Marcos Juárez\, Córdoba\, 2580
CATEGORIES:Peña
ATTACH;FMTTYPE=image/jpeg:https://www.mmj.gob.ar/wp-content/uploads/2025/04/Screenshot_20250424_001456_WhatsAppBusiness.jpg
END:VEVENT
BEGIN:VEVENT
DTSTART;TZID=America/Argentina/Buenos_Aires:20250425T000000
DTEND;TZID=America/Argentina/Buenos_Aires:20250425T000000
DTSTAMP:20260419T105621
CREATED:20250417T200525Z
LAST-MODIFIED:20250417T200540Z
UID:4129-1745539200-1745539200@www.mmj.gob.ar
SUMMARY:DAMIÁN CÓRDOBA
DESCRIPTION:
URL:https://www.mmj.gob.ar/agenda/damian-cordoba/
LOCATION:La Cantera
CATEGORIES:Música
ATTACH;FMTTYPE=image/jpeg:https://www.mmj.gob.ar/wp-content/uploads/2025/04/FB_IMG_1744897208981.jpg
END:VEVENT
BEGIN:VEVENT
DTSTART;TZID=America/Argentina/Buenos_Aires:20250426T173000
DTEND;TZID=America/Argentina/Buenos_Aires:20250426T193000
DTSTAMP:20260419T105621
CREATED:20250417T113530Z
LAST-MODIFIED:20250417T113559Z
UID:4118-1745688600-1745695800@www.mmj.gob.ar
SUMMARY:CAPIBARA Y LOS AMIGOS DE LA GRANJA
DESCRIPTION:
URL:https://www.mmj.gob.ar/agenda/capibara-y-los-amigos-de-la-granja/
LOCATION:Sociedad Italiana Marcos Juárez\, Alem y Belgrano\, Marcos Juárez\, Córdoba\, 2580
CATEGORIES:TEATRO
ATTACH;FMTTYPE=image/jpeg:https://www.mmj.gob.ar/wp-content/uploads/2025/04/Screenshot_20250417_074221_Facebook.jpg
END:VEVENT
BEGIN:VEVENT
DTSTART;TZID=America/Argentina/Buenos_Aires:20250426T200000
DTEND;TZID=America/Argentina/Buenos_Aires:20250426T200000
DTSTAMP:20260419T105621
CREATED:20250419T150931Z
LAST-MODIFIED:20250425T140029Z
UID:4143-1745697600-1745697600@www.mmj.gob.ar
SUMMARY:LA PEÑA DE LA BATU
DESCRIPTION:Traer reposera y un alimento no perecedero.
URL:https://www.mmj.gob.ar/agenda/pena-folklorica/
LOCATION:Plaza Las Américas\, San Juan y Sarmiento\, Marcos Juárez
CATEGORIES:Peña
ATTACH;FMTTYPE=image/jpeg:https://www.mmj.gob.ar/wp-content/uploads/2025/04/Messenger_creation_DE340427-7632-4E8F-A735-B21E31570CE9.jpeg
END:VEVENT
BEGIN:VEVENT
DTSTART;TZID=America/Argentina/Buenos_Aires:20250426T203000
DTEND;TZID=America/Argentina/Buenos_Aires:20250426T203000
DTSTAMP:20260419T105621
CREATED:20250412T121739Z
LAST-MODIFIED:20250412T121749Z
UID:4034-1745699400-1745699400@www.mmj.gob.ar
SUMMARY:MARCOS JUÁREZ NOCTURNA
DESCRIPTION:
URL:https://www.mmj.gob.ar/agenda/marcos-juarez-nocturna/
CATEGORIES:General
ATTACH;FMTTYPE=image/jpeg:https://www.mmj.gob.ar/wp-content/uploads/2025/04/IMG-20250412-WA0007.jpg
END:VEVENT
BEGIN:VEVENT
DTSTART;TZID=America/Argentina/Buenos_Aires:20250427T160000
DTEND;TZID=America/Argentina/Buenos_Aires:20250427T190000
DTSTAMP:20260419T105621
CREATED:20250425T135235Z
LAST-MODIFIED:20250425T135335Z
UID:4281-1745769600-1745780400@www.mmj.gob.ar
SUMMARY:SUELTA DE LIBROS
DESCRIPTION:Vení\, elegí y llevate gratis un libro.
URL:https://www.mmj.gob.ar/agenda/suelta-de-libros-2/
LOCATION:Anfiteatro Municipal\, Lardizabal 950\, Marcos Juárez\, Córdoba\, 2580\, Argentina
CATEGORIES:General
ATTACH;FMTTYPE=image/jpeg:https://www.mmj.gob.ar/wp-content/uploads/2025/04/IMG-20250421-WA0079-1.jpg
END:VEVENT
BEGIN:VEVENT
DTSTART;TZID=America/Argentina/Buenos_Aires:20250427T193000
DTEND;TZID=America/Argentina/Buenos_Aires:20250427T193000
DTSTAMP:20260419T105621
CREATED:20250422T200431Z
LAST-MODIFIED:20250422T200442Z
UID:4229-1745782200-1745782200@www.mmj.gob.ar
SUMMARY:CONCIERTO CIERRE DE TALLER CANDOMBE CORAL
DESCRIPTION:
URL:https://www.mmj.gob.ar/agenda/concierto-cierre-de-taller-candombe-coral/
LOCATION:Banda Municipal «José Cesanelli»\, Av. San Martín 1241\, Marcos Juárez\, Córdoba\, 2580\, Argentina
CATEGORIES:Música
ATTACH;FMTTYPE=image/jpeg:https://www.mmj.gob.ar/wp-content/uploads/2025/04/IMG-20250422-WA0082.jpg
END:VEVENT
END:VCALENDAR